Workbook
Name _ftn1: 'Показатели мун.прог. 2'!#REF!
Name _ftn2: 'Показатели мун.прог. 2'!#REF!
Name _ftn3: 'Показатели мун.прог. 2'!#REF!
Name _ftn4: 'Показатели мун.прог. 2'!#REF!
Name _ftn5: 'Показатели мун.прог. 2'!#REF!
Name _ftn6: 'Показатели мун.прог. 2'!#REF!
Name _ftnref1: 'Показатели мун.прог. 2'!$B$4
Name _ftnref2: 'Показатели мун.прог. 2'!$D$4
Name _ftnref3: 'Показатели мун.прог. 2'!$K$4
Name _ftnref4: 'Показатели мун.прог. 2'!$L$4
Name _ftnref5: 'Показатели мун.прог. 2'!$M$4
Name _ftnref6: 'Показатели мун.прог. 2'!$E$5

Sheet Паспорт 1
C1: УТВЕРЖДЕН
C2: Постановлением Главы МО
C3: Усть-Коксинский район Республики Алтай
C4: « 10 » ноября 2025 г. № 916
A8: ПАСПОРТ
A9: муниципальной программы муниципального образования "Усть-Коксинский район"
A10: Доступная среда в МО «Усть-Коксинский район» Республики Алтай
A13: 1. Основные положения
A15: Ответственный исполнитель муниципальной программы | B15: Отдел ЖКХ и муниципального имущества
A17: Период реализации муниципальной программы | B17: 2026-2031 годы
A18: Цель муниципальной программы | B18: Цель 1.Обеспечение беспрепятственного доступа к приоритетным объектам и услугам в приоритетных сферах жизнедеятель-ности инвалидов и других маломобильных групп населения в муниципальном образовании «Усть-Коксинский район»
B22: Направление (подпрограмма) 1 "Обеспечение доступной среды"
A24: Объемы бюджетных ассигнований муниципальной программы, в том числе по годам реализации, тыс. руб. | B24: 2026 год | C24: ='Финансовое обеспеч. 5'!D7 -> 0
B25: 2027 год | C25: ='Финансовое обеспеч. 5'!E7 -> 0
B26: 2028 год | C26: ='Финансовое обеспеч. 5'!F7 -> 0
B27: 2029 год | C27: ='Финансовое обеспеч. 5'!G7 -> 0
B28: 2030 год | C28: ='Финансовое обеспеч. 5'!H7 -> 0
B29: 2031 год | C29: ='Финансовое обеспеч. 5'!I7 -> 0
A30: Связь с национальными целями развития Российской Федерации, государственными программами Республики Алтай | B30: Национальная цель - Повышение доли доступных для инвалидов и других маломобильных групп населения приоритетных объектов.

Sheet Показатели мун.прог. 2
A2: 2. Показатели муниципальной программы
A4: № п/п | B4: Наименование показателя | C4: Единица измерения | D4: Базовое значение | E4: Значения показателей | K4: Ответственный за достижение показателя | L4: Связь с показателями национальных целей | M4: Информационная система
E5: 2026 | F5: 2027 | G5: 2028 | H5: 2029 | I5: 2030 | J5: 2031
A6: 1 | B6: 2 | C6: 3 | D6: 4 | E6: 5 | F6: 6 | G6: 7 | H6: 8 | I6: 9 | J6: 10 | K6: 11 | L6: 12 | M6: 13
A7: Цель 1. Обеспечение беспрепятственного доступа к приоритетным объектам и услугам в приоритетных сферах жизнедеятель-ности инвалидов и других маломобильных групп населения в муниципальном образовании «Усть-Коксинский район»
A8: 1 | B8: Доля муниципальных объектов социальной инфраструктуры, на которые сформированы паспорта доступности, среди общего количества муниципальных объектов социальной инфраструктуры в приоритетных сферах жизнедеятельности инвалидов и других маломобильных групп населения | C8: % | E8: 0 | F8: 0 | G8: 0 | H8: 0 | I8: 0 | J8: 0 | K8: Отдел ЖКХ и муниципального имущества
A9: 2 | B9: Доля объектов улично-дорожной инфраструктуры, доступных для инвалидов и других маломобильных групп населения, в общем количестве объектов улично-дорожного хозяйства | C9: % | E9: 0 | F9: 0 | G9: 0 | H9: 0 | I9: 0 | J9: 0 | K9: Отдел ЖКХ и муниципального имущества

Sheet Структура мун.прог. 3
C2: 3. Структура муниципальной программы
A4: № п/п | B4: Задачи структурного элемента | C4: Краткое описание ожидаемых эффектов от реализации задачи структурного элемента | D4: Связь с показателями
A5: 1 | B5: 2 | C5: 3 | D5: 4
B6: Направление (подпрограмма) 1 "Обеспечение доступной среды"
A7: 1.1 | B7: Комплекс программных мероприятий "Обеспечение беспрепятственного доступа к административным объектам и объектам социальной сферы инвалидов и других маломобильных групп населения в МО "Усть-Коксинский район"
B8: Ответственный за реализацию (Отдел ЖКХ и муниципального имущества) | D8: Срок реализации: 2026-2031 годы
B9: Повышение уровня доступности приоритетных объектов и услуг для инвалидов и других маломобильных групп населения | C9: Снижение социальной напряжённости. Это происходит за счёт увеличения информированности инвалидов о доступных социально значимых объектах и услугах, о формате их предоставления.
A10: 1.2 | B10: Комплекс программных мероприятий "Обеспечение межведомственного взаимодействия и координации работ администрации МО "Усть-Коксинский район", заинтересованных организаций при формировании условий доступности приоритетных объектов и услуг для инвалидов и других маломобильных групп населения"
B11: Преодоление социальной разобщенности в обществе и формирование позитивного отношения к проблемам жизнедеятельности инвалидов | C11: Преодоление социальной изоляции. Инвалиды и другие маломобильные группы населения включаются в жизнь общества, в том числе в совместные с другими гражданами мероприятия (досуговые, культурные, спортивные).
A12: 1.3 | B12: Комплекс программных мероприятий "Формирование условий для беспрепятственного доступа инвалидов и других маломобильных групп населения к объектам уличнодорожного хозяйства"
B13: Повышение доступной среды жизнедеятельности для инвалидов и других маломобильных групп населения к объектам уличнодорожного хозяйства | C13: Обустроена доступная среда жизнедеятельности для инвалидов и других маломобильных групп населения к объектам уличнодорожного хозяйства

Sheet Перечень мероприятий 4
F2: 4. Перечень мероприятий (результатов) муниципальной программы (комплексной программы)
A4: № п/п | B4: Наименование мероприятия (результата) | C4: Целевые показатели непосредственного результата реализации мероприятия | L4: Сроки наступления мероприятия (результат)
C5: Наименование | D5: Единица измерения | E5: Базовое значение | F5: Значения мероприятия (результата) по годам
F6: 2026 | G6: 2027 | H6: 2028 | I6: 2029 | J6: 2030 | K6: 2031 | L6: I полугодие | M6: II полугодие
A7: 1 | B7: 2 | C7: 3 | D7: 4 | E7: 5 | F7: 6 | G7: 78 | H7: 9 | I7: 10 | J7: 11 | K7: 12 | L7: 13
A8: Подпрограмма 1. "Обеспечение доступной среды"
A9: 1.1 Комплекс программных мероприятий "Обеспечение беспрепятственного доступа к административным объектам и объектам социальной сферы инвалидов и других маломобильных групп населения в МО "Усть-Коксинский район"
B10: Мероприятия по формированию доступной среды жизнедеятельности для инвалидов и других маломобильных групп населения к административным объектам и объектам социальной сферы | C10: Доля муниципальных объектов социальной инфраструктуры, на которые сформированы паспорта доступности, среди общего количества муниципальных объектов социальной инфраструктуры в приоритетных сферах жизнедеятельности инвалидов и других маломобильных групп населения | D10: % | F10: 0 | G10: 0 | H10: 0 | I10: 0 | J10: 0 | K10: 0
A11: 1.2 Комплекс программных мероприятий "Обеспечение межведомственного взаимодействия и координации работ администрации МО "Усть-Коксинский район", заинтересованных организаций при формировании условий доступности приоритетных объектов и услуг для инвалидов и других маломобильных групп населения"
A12: 1.2 | B12: Мероприятия по преодолению социальной разобщенности в обществе и формирование позитивного отношения к проблемам жизнедеятельности инвалидов | C12: Проведение совместных культурно спортивных мероприятий среди инвалидов и граждан не имеющих инвалидности, с участием в качестве зритей инвалидов и граждан не имеющих инвалидности | F12: 0 | G12: 0 | H12: 0 | I12: 0 | J12: 0 | K12: 0
A13: 1.3 Комплекс программных мероприятий "Формирование условий для беспрепятственного доступа инвалидов и других маломобильных групп населения к объектам уличнодорожного хозяйства"
A14: 1.3 | B14: Мероприятия по формированию доступной среды жизнедеятельности для инвалидов и других маломобильных групп населения к объектам уличнодорожного хозяйства | C14: Доля объектов улично-дорожной инфраструктуры, доступных для инвалидов и других маломобильных групп населения, в общем количестве объектов улично-дорожного хозяйства. | D14: % | F14: 0 | G14: 0 | H14: 0 | I14: 0 | J14: 0 | K14: 0

Sheet Финансовое обеспеч. 5
E2: 5. Финансовое обеспечение муниципальной программы
E3: МО «Усть-Коксинский район»
A4: № п/п | B4: Наименование муниципальной программы, структурного элемента муниципальной программы | C4: Источник финансового обеспечения | D4: Объем финансового обеспечения по годам реализации, тыс. рублей
D5: 2026 год | E5: 2027 год | F5: 2028 год | G5: 2029 год | H5: 2030 год | I5: 2031 год
A6: 1 | B6: 2 | C6: 3 | D6: 4 | E6: 5 | F6: 6 | G6: 7 | H6: 8 | I6: 9
B7: Муниципальная программа "Доступная среда в МО "Усть-Коксинский район" Республики Алтай" | C7: Всего: | D7: =SUM(D8:D11) -> 0 | E7: =SUM(E8:E11) -> 0 | F7: =SUM(F8:F11) -> 0 | G7: =SUM(G8:G11) -> 0 | H7: =SUM(H8:H11) -> 0 | I7: =SUM(I8:I11) -> 0
C8: местный бюджет МО «Усть-Коксинский район» | D8: =D13+D18+D23 -> 0 | E8: =E13+E18+E23 -> 0 | F8: =F13+F18+F23 -> 0 | G8: =G13+G18+G23 -> 0 | H8: =H13+H18+H23 -> 0 | I8: =I13+I18+I23 -> 0
C9: федеральный бюджет (справочно) | D9: =D14+D19+D24 -> 0 | E9: =E14+E19+E24 -> 0 | F9: =F14+F19+F24 -> 0 | G9: =G14+G19+G24 -> 0 | H9: =H14+H19+H24 -> 0 | I9: =I14+I19+I24 -> 0
C10: республиканский бюджет Республики Алтай (справочно) | D10: =D15+D20+D25 -> 0 | E10: =E15+E20+E25 -> 0 | F10: =F15+F20+F25 -> 0 | G10: =G15+G20+G25 -> 0 | H10: =H15+H20+H25 -> 0 | I10: =I15+I20+I25 -> 0
C11: иные источники (справочно) | D11: =D16+D21+D26 -> 0 | E11: =E16+E21+E26 -> 0 | F11: =F16+F21+F26 -> 0 | G11: =G16+G21+G26 -> 0 | H11: =H16+H21+H26 -> 0 | I11: =I16+I21+I26 -> 0
A12: 1.1 | B12: Комплекс программных мероприятий "Обеспечение беспрепятственного доступа к административным объектам и объектам социальной сферы инвалидов и других маломобильных групп населения в МО "Усть-Коксинский район" | C12: Всего: | D12: =SUM(D13:D16) -> 0 | E12: =SUM(E13:E16) -> 0 | F12: =SUM(F13:F16) -> 0 | G12: =SUM(G13:G16) -> 0 | H12: =SUM(H13:H16) -> 0 | I12: =SUM(I13:I16) -> 0
C13: местный бюджет МО «Усть-Коксинский район» | D13: 0 | E13: 0 | F13: 0 | G13: 0 | H13: 0 | I13: 0
C14: федеральный бюджет (справочно) | D14: 0 | E14: 0 | F14: 0 | G14: 0 | H14: 0 | I14: 0
C15: республиканский бюджет Республики Алтай (справочно) | D15: 0 | E15: 0 | F15: 0 | G15: 0 | H15: 0 | I15: 0
C16: иные источники (справочно) | D16: 0 | E16: 0 | F16: 0 | G16: 0 | H16: 0 | I16: 0
A17: 1.2 | B17: Комплекс программных мероприятий "Обеспечение межведомственного взаимодействия и координации работ администрации МО "Усть-Коксинский район", заинтересованных организаций при формировании условий доступности | C17: Всего: | D17: =SUM(D18:D21) -> 0 | E17: =SUM(E18:E21) -> 0 | F17: =SUM(F18:F21) -> 0 | G17: =SUM(G18:G21) -> 0 | H17: =SUM(H18:H21) -> 0 | I17: =SUM(I18:I21) -> 0
C18: местный бюджет МО «Усть-Коксинский район» | D18: 0 | E18: 0 | F18: 0 | G18: 0 | H18: 0 | I18: 0
C19: федеральный бюджет (справочно) | D19: 0 | E19: 0 | F19: 0 | G19: 0 | H19: 0 | I19: 0
C20: республиканский бюджет Республики Алтай (справочно) | D20: 0 | E20: 0 | F20: 0 | G20: 0 | H20: 0 | I20: 0
C21: иные источники (справочно) | D21: 0 | E21: 0 | F21: 0 | G21: 0 | H21: 0 | I21: 0
A22: 1.3 | B22: Комплекс программных мероприятий "Формирование условий для беспрепятственного доступа инвалидов и других маломобильных групп населения к объектам уличнодорожного хозяйства" | C22: Всего: | D22: =SUM(D23:D26) -> 0 | E22: =SUM(E23:E26) -> 0 | F22: =SUM(F23:F26) -> 0 | G22: =SUM(G23:G26) -> 0 | H22: =SUM(H23:H26) -> 0 | I22: =SUM(I23:I26) -> 0
C23: местный бюджет МО «Усть-Коксинский район» | D23: 0 | E23: 0 | F23: 0 | G23: 0 | H23: 0 | I23: 0
C24: федеральный бюджет (справочно) | D24: 0 | E24: 0 | F24: 0 | G24: 0 | H24: 0 | I24: 0
C25: республиканский бюджет Республики Алтай (справочно) | D25: 0 | E25: 0 | F25: 0 | G25: 0 | H25: 0 | I25: 0
C26: иные источники (справочно) | D26: 0 | E26: 0 | F26: 0 | G26: 0 | H26: 0 | I26: 0

Sheet Отчет по показателя 6
F1: Приложение № 6
F2: к Порядку разработки, реализации и
F3: оценки эффективности муниципальных программ
F4: муниципального образования
F5: «Усть-Коксинский район», утвержденный
F6: постановлением администрации
F7: муниципального образования «Усть-Коксинский район»
F8: «____»_____________№_____
D11: Отчет о достижении значений показателей муниципальной программы (комплексной программы),
D12: результатов структурных элементов муниципальной программы (комплексной программы)
A14: № п/п | B14: Наименование показателя (результата) | C14: Единица измерения | D14: Значение показателя (результата) | G14: Обоснование отклонения значения показателя (результата) (при наличии)
D15: год, предшествующий отчетному (текущему) году | E15: отчетный год
E16: план | F16: факт на отчетную дату
A17: Муниципальная программа
A18: 1. | B18: Показатель
A20: Структурный элемент
A21: 1. | B21: Результат

Sheet Отчет об испол. бюджет.ассиг 7
F1: Приложение № 7
F2: к Порядку разработки, реализации и
F3: оценки эффективности муниципальных программ
F4: муниципального образования
F5: «Усть-Коксинский район», утвержденный
F6: постановлением администрации
F7: муниципального образования «Усть-Коксинский район»
F8: «____»_____________№_____
D11: Отчет об использовании бюджетных ассигнований на реализацию
D12: муниципальной программы (комплексной программы) МО «Усть-Коксинский район»
G13: (тыс. рублей)
A14: № п/п | B14: Статус | C14: Наименование муниципальной программы (комплексной программы), структурного элемента муниципальной программы (комплексной программы) | D14: Главный распорядитель бюджетных средств (ответственный исполнитель, соисполнитель, участник) | E14: Расходы
E15: утверждено сводной бюджетной росписи на отчетную дату | F15: утверждено в муниципальной программе на отчетную дату | G15: кассовое исполнение
A16: 1 | B16: 2 | C16: 3 | D16: 4 | E16: 8 | F16: 9 | G16: 10
A17: 1 | B17: Муниципальная программа (комплексная программа) | D17: всего, в том числе:
D18: местный бюджет МО «Усть-Коксинский район»
D19: федеральный бюджет (справочно)
D20: республиканский бюджет Республики Алтай (справочно)
D21: иные источники (справочно)
A22: 2 | B22: Структурный элемент 1 | D22: всего, в том числе:
D23: местный бюджет МО «Усть-Коксинский район»
D24: федеральный бюджет (справочно)
D25: республиканский бюджет Республики Алтай (справочно)
D26: иные источники (справочно)
A27: 3 | B27: Структурный элемент 1 | D27: всего, в том числе:
D28: местный бюджет МО «Усть-Коксинский район»
D29: федеральный бюджет (справочно)
D30: республиканский бюджет Республики Алтай (справочно)
D31: иные источники (справочно)
A32: 4 | B32: Структурный элемент 1 | D32: всего, в том числе:
D33: местный бюджет МО «Усть-Коксинский район»
D34: федеральный бюджет (справочно)
D35: республиканский бюджет Республики Алтай (справочно)
D36: иные источники (справочно)
