Workbook
Name отметки: 'Экономическое развитие'!#REF!
Name отметки: 'Экономическое развитие'!#REF!

Sheet Справочник
A1: Список специалистов, ответственных за согласование показателей,
A2: используемых для оценки эфективности деятельности органов местного самоуправления
A3: муниципальных районов и городского округа в Республике Алтай
A4: № показателя | B4: Наименование целевого покзателя | C4: Единицы измерения | D4: Ведомство - согласовывает пояснительные записки и показатели | E4: ФИО ответственного специалиста | F4: контакт. телефон | G4: электронный адрес | H4: ФИО начальника отдела | I4: контакт. телефон
A5: I. | B5: Экономическое развитие
A6: 1 | B6: Число субъектов малого и среднего предпринимательства | C6: единиц на 10 тыс. человек населения | D6: Минэкономразвития РА | E6: Кобошева Надежда Николаевна | F6: 8 (38822) 2 55 38 | G6: okr@mineco04.ru | H6: Делдошпоева Елена Семеновна | I6: (38822) 2-55-38
A7: 2 | B7: Доля среденесписочной численности работников (без внешних совместителей) малых и средних предприятий в среденесписочной численности работников (без внешних совместителей) всех предприятий и организаций | C7: процентов | D7: Минэкономразвития РА | E7: Кобошева Надежда Николаевна | F7: 8 (38822) 2 55 38 | G7: okr@mineco04.ru | H7: Делдошпоева Елена Семеновна | I7: (38822) 2-55-38
A8: 3 | B8: Объем инвестиций в основной капитал (за исключением бюджетных средств) в расчете на 1 жителя | C8: рублей | D8: Минэкономразвития РА | E8: Джадранова Ольга Асылбековна | F8: 8 (38822) 2 9511 | G8: 04invest@bk.ru | H8: Щелкунова Анна Николаевна | I8: 8 (38822) 2 13 50
A9: 4 | B9: Доля площади земельных участков, являющихся объектами налогообложения земельным налогом, в общей площади территории городского округа (муниципального района) | C9: процентов | D9: Минэкономразвития РА | E9: Ялбаков Аржан Владимирович | F9: 8 (38822) 2-26-08 | G9: res1@mineco04.ru | H9: Ялбаков Аржан Владимирович | I9: 2-26-08
A10: 5 | B10: Доля прибыльных сельскохозяйственных организаций в общем их числе | C10: процентов | D10: Министерство сельского хозяйства РА | E10: Абраменко Геннадий Сергеевич | F10: 8 (38822) 2 12 48 | G10: abramenko.mcx@yandex.ru | H10: Терехина Галина Александровна | I10: 8 (38822) 2 40 37
A11: 6 | B11: Доля протяженности автомобильных дорог общего пользования местного значения, не отвечающих нормативным требованиям, в общей протяженности автомобильных дорог общего пользования местного значения | C11: процентов | D11: Министерство регионального развития Республики Алтай | E11: Хорошилова Алена Михайловна | F11: 8 (38822) 2 22 37 | G11: transport@minregion-ra.ru | H11: Ватутина Жанна Ивановна | I11: 8 (38822) 2 22 37
A12: 7 | B12: Доля населения, проживающего в населенных пунктах, не имеющих регулярного автобусного и (или) железнодорожного сообщения с административным центром городского округа (муниципального района) | C12: процентов | D12: Министерство регионального развития Республики Алтай | E12: Угрюмова Алеся Александровна | F12: 8 (38822) 2 60 59 | G12: transport@minregion-ra.ru | H12: Ватутина Жанна Ивановна | I12: 8 (38822) 2 22 37
A13: 8 | B13: Среднемесячная номинальная начисленная заработная плата работников: | D13: х | E13: х | F13: х | G13: х | H13: х | I13: х
A14: 8.1. | B14: крупных и средних предприятий и некоммерческих организаций городского округа (муниципального района) | C14: рублей | D14: Минэкономразвития РА | E14: =D97 -> Мусихина Татьяна Алексеевна | F14: 8(388 22) 2-25-64 | G14: gospro@mineco04.ru | H14: Делдошпоева Елена Семеновна | I14: (38822) 2-55-38
A15: 8.2. | B15: муниципальных дошкольных образовательных организаций | C15: рублей | D15: Министерство образования и науки РА | E15: Никитина Светлана Сергеевна | F15: 8 (38822) 2 22 93 | G15: nikitina@mon-ra.ru | H15: Попова Наталья Владимировна | I15: 8 (38822) 2 22 93
A16: 8.3. | B16: муниципальных общеобразовательных учреждений | C16: рублей | D16: Министерство образования и науки РА | E16: Никитина Светлана Сергеевна | F16: 8 (38822) 2 22 93 | G16: nikitina@mon-ra.ru | H16: Попова Наталья Владимировна | I16: 8 (38822) 2 22 93
A17: 8.4. | B17: учителей муниципальных общеобразовательных учреждений | C17: рублей | D17: Министерство образования и науки РА | E17: Никитина Светлана Сергеевна | F17: 8 (38822) 2 22 93 | G17: nikitina@mon-ra.ru | H17: Попова Наталья Владимировна | I17: 8 (38822) 2 22 93
A18: 8.5. | B18: муниципальных учреждений культуры и искусства | C18: рублей | D18: Министерство культуры РА | E18: Сабина Айару Эзеновна | F18: 8 (38822) 2 55 88 | G18: econom.minkulturi.ra@yandex.ru | H18: Пильтина Чечеш Михайловна | I18: 8 (38822) 2 22 02
A19: 8.6. | B19: муниципальных учреждений физической культуры и спорта | C19: рублей | D19: Комитет по физической культуре и спорту РА | E19: Титанакова Татьяна Борисовна | F19: 8 (388 22) 6-11-90 | G19: ttb@sportkom04.ru | H19: Титанакова Татьяна Борисовна | I19: 8 (388 22) 6-11-90
A20: II | B20: Дошкольное образование
A21: 9 | B21: Доля детей в возрасте 1 - 6 лет, получающих дошкольную образовательную услугу и (или) услугу по их содержанию в муниципальных образовательных учреждениях в общей численности детей в возрасте 1 - 6 лет | C21: процентов | D21: Министерство образования и науки РА | E21: Костюника Алена Анатольевна | F21: 8 (38822) 2 25 10 | G21: doshkol@mon-ra.ru | H21: Елфимова Ирина Ивановна | I21: 8 (38822) 4 84 20
A22: 10 | B22: Доля детей в возрасте 1 - 6 лет, стоящих на учете для определения в муниципальные дошкольные образовательные учреждения, в общей численности детей в возрасте 1 - 6 лет | C22: процентов | D22: Министерство образования и науки РА | E22: Костюника Алена Анатольевна | F22: 8 (38822) 2 25 10 | G22: doshkol@mon-ra.ru | H22: Елфимова Ирина Ивановна | I22: 8 (38822) 4 84 20
A23: 11 | B23: Доля муниципальных дошкольных образовательных учреждений, здания которых находятся в аварийном состоянии или требуют капитального ремонта, в общем числе муниципальных дошкольных образовательных учреждений | C23: процентов | D23: Министерство образования и науки РА | E23: Кергилова Галина Владимировна | F23: 8 (38822) 2 35 22 | G23: econom@mon-ra.ru | H23: Кергилова Галина Владимировна | I23: 8 (38822) 2 35 22
A24: III | B24: Общее и дополнительное образование
A25: 12 | B25: Доля выпускников муниципальных общеобразовательных учреждений, не получивших аттестат о среднем (полном) образовании, в общей численности выпускников муниципальных общеобразовательных учреждений | C25: процентов | D25: Министерство образования и науки РА | E25: Дзукаева Полина Александровна | F25: 8 (38822) 2 22 94 | G25: volkhina@mon-ra.ru | H25: Елфимова Ирина Ивановна | I25: 8 (38822) 4 84 20
A26: 13 | B26: Доля муниципальных общеобразовательных учреждений, соответствующих современным требованиям обучения, в общем количестве муниципальных общеобразовательных учреждений | C26: процентов | D26: Министерство образования и науки РА | E26: Кергилова Галина Владимировна | F26: 8 (38822) 2 35 22 | G26: econom@mon-ra.ru | H26: Кергилова Галина Владимировна | I26: 8 (38822) 2 35 22
A27: 14 | B27: Доля муниципальных общеобразовательных учреждений, здания которых находятся в аварийном состоянии или требуют капитального ремонта, в общем количестве муниципальных общеобразовательных учреждений | C27: процентов | D27: Министерство образования и науки РА | E27: Кергилова Галина Владимировна | F27: 8 (38822) 2 35 22 | G27: econom@mon-ra.ru | H27: Кергилова Галина Владимировна | I27: 8 (38822) 2 35 22
A28: 15 | B28: Доля детей первой и второй групп здоровья в общей численности обучающихся в муниципальных общеобразовательных учреждениях | C28: процентов | D28: Министерство здравоохранения РА | E28: Чернышова Татьяна Анатольевна | F28: 8 (38822) 2 64 91 | G28: medotdel-04@yandex.ru | H28: Добромыслова Наталья Геннадьевна | I28: 8 (38822) 4-77-58
A29: справочно | B29: Численность детей первой и второй групп здоровья, обучающихся в муниципальных образовательных организациях | C29: человек | D29: Министерство здравоохранения РА | E29: Чернышова Татьяна Анатольевна | F29: 8 (38822) 2 64 91 | G29: medotdel-04@yandex.ru | H29: Добромыслова Наталья Геннадьевна | I29: 8 (38822) 4-77-58
B30: Численность детей, обучающихся в муниципальных организациях | C30: человек | D30: Министерство образования и науки РА | E30: Чернышова Татьяна Анатольевна | F30: 9 (38822) 2 64 91 | G30: medotdel-04@yandex.ru | H30: Добромыслова Наталья Геннадьевна | I30: 8 (38822) 4-77-58
A31: 16 | B31: Доля обучающихся в муниципальных общеобразовательных учреждениях, занимающихся во вторую (третью) смену, в общей численности обучающихся в муниципальных общеобразовательных учреждениях | C31: процентов | D31: Министерство образования и науки РА | E31: Бидинова Карина Борисовна | F31: 8 (38822) 2 71 34 | G31: bidinova@mon-ra.ru | H31: Попова Наталья Владимировна | I31: 8 (38822) 2 22 93
A32: 17 | B32: Расходы бюджета муниципального образования на общее образование в расчете на 1 обучающегося в муниципальных общеобразовательных учреждениях | C32: рублей | D32: Министерство образования и науки РА | E32: Никитина Светлана Сергеевна | F32: 8 (38822) 2 22 93 | G32: nikitina@mon-ra.ru | H32: Попова Наталья ладимировна | I32: 8 (38822) 2 22 93
A33: 18 | B33: Доля детей в возрасте 5 - 18 лет, получающих услуги по дополнительному образованию в организациях различной организационно-правовой формы и формы собственности, в общей численности детей данной возрастной группы | C33: процентов | D33: Министерство образования и науки РА | E33: Тырышкина Инга Владимировна | F33: 8 (38822) 2 37 22 | G33: tirishkina@mon-ra.ru | H33: Каменева Наталья Юрьевна | I33: 8 (38822) 2 37 22
A34: IV. | B34: Культура
A35: 19 | B35: Уровень фактической обеспеченности учреждениями культуры в городском округе (муниципальном районе) от нормативной потребности:
B36: клубами и учреждениями клубного типа | C36: процентов | D36: Министерство культуры РА | E36: Чиндашева Татьяна Олеговна | F36: 8 (38822) 2 22 02 | G36: econom.minkulturi.ra@yandex.ru | H36: Пильтина Чечеш Михайловна | I36: 8 (38822) 2 22 02
B37: библиотеками | C37: процентов | D37: Министерство культуры РА | E37: Чиндашева Татьяна Олеговна | F37: 8 (38822) 2 22 02 | G37: econom.minkulturi.ra@yandex.ru | H37: Пильтина Чечеш Михайловна | I37: 8 (38822) 2 22 02
B38: парками культуры и отдыха | C38: процентов | D38: Министерство культуры РА | E38: Чиндашева Татьяна Олеговна | F38: 8 (38822) 2 22 02 | G38: econom.minkulturi.ra@yandex.ru | H38: Пильтина Чечеш Михайловна | I38: 8 (38822) 2 22 02
A39: 20. | B39: Доля муниципальных учреждений культуры, здания которых находятся в аварийном состоянии или требуют капитального ремонта, в общем количестве муниципальных учреждений культуры | C39: процентов | D39: Министерство культуры РА | E39: Чиндашева Татьяна Олеговна | F39: 8 (38822) 2 22 02 | G39: econom.minkulturi.ra@yandex.ru | H39: Пильтина Чечеш Михайловна | I39: 8 (38822) 2 22 02
A40: 21 | B40: Доля объектов культурного наследия, находящихся в муниципальной собственности и требующих консервации или реставрации, в общем количестве объектов культурного наследия, находящихся в муниципальной собственности | C40: процентов | D40: Инспеция по государственной охране объектов культурного наследия РА | E40: Киселёва Екатерина Игоревна | F40: 8 (38822) 2 41 73 8 913 695 6404 | G40: klokova.ekaterinka@yandex.ru | H40: Базайченко Александр Викторович | I40: 8 (38822) 2 41 91
...

Sheet Экономическое развитие
B1: МО "Усть-Коксинский район"
A2: Заочное согласование показателей для оценки эфективности деятельности органов местного самоуправления муниципальных районов и городского округа в Республике Алтай за 2022 год и пояснительных записок к ним
A3: № показателя | B3: Наименование показателя | C3: Единица измерения | D3: Отчетная информация | K3: пояснительная записка | L3: Муниципальное образовние | P3: Ведомство (согласование ПОЯСНИТЕЛЬНЫХ записок и ведомственных целевых показатателей)
D4: 2019 | E4: 2020 | F4: 2021 | G4: 2022 | H4: 2023 | I4: 2024 | J4: 2025 | L4: ФИО (полностью) | M4: контактный телефон (ОБЯЗАТЕЛЬНО) | N4: дата и время внесения на согласования (ОБЯЗАТЕЛЬНО) | O4: Комментарий ответственного сотрудника ОБЯЗАТЕЛЬНО | P4: ФИО (полностью) | Q4: контактный телефон (обязательно) | R4: дата и время согласования (ОБЯЗАТЕЛЬНО) | S4: комментарий ответственного сотрудника ОБЯЗАТЕЛЬНО
A5: I. Экономическое развитие
A6: 1 | B6: Число субъектов малого и среднего предпринимательства в расчете на 10 тыс. человек населения | C6: единиц на 10 тыс.чел. населения | D6: =IF(D7=0,0,D7/'Организация муниципального упра'!D20*10) -> 288.2291 | E6: =IF(E7=0,0,E7/E8*10) -> 291.59627 | F6: =IF(F7=0,0,F7/F8*10) -> 307.40157 | G6: =IF(G7=0,0,G7/G8*10) -> 323.11516 | H6: =IF(H7=0,0,H7/H8*10) -> 325.64364 | I6: =IF(I7=0,0,I7/I8*10) -> 326.26012 | J6: =IF(J7=0,0,J7/J8*10) -> 326.87651 | K6: https://yadi.sk/i/qNE2kKib3U9fmv | P6: =Справочник!$E$6 -> Кобошева Надежда Николаевна | Q6: =Справочник!$F$6 -> 8 (38822) 2 55 38 | R6: Показатель согласован 20.04.2023 17:20 | S6: Аналитика согласована 21.04.2023 11:30
A7: справочно: | B7: Число субъектов малого и среднего предпринимательства | C7: единиц | D7: 465 | E7: 466 | F7: 488 | G7: 507 | H7: 511 | I7: 512 | J7: 513 | L7: Самтарова Марина Айдаровна | M7: 388(48)22-4-36 | N7: 0.64930556 | O7: Показатели для согласования | P7: ='Справочник'!$E$6 -> Кобошева Надежда Николаевна | Q7: ='Справочник'!$F$6 -> 8 (38822) 2 55 38
B8: Численность населения на начало следующего за отчетным года | C8: тыс. человек | E8: 15.981 | F8: 15.875 | G8: 15.691 | H8: 15.692 | I8: 15.693 | J8: 15.694 | L8: Кононова Лариса Викторовна | M8: 23064 | O8: Показатели для согласования | R8: 14.04.2023 в 14-33 ч. | S8: показатель по численности населения согласован
A9: 2. | B9: Доля среднесписочной численности работников (без внешних совместителей) малых и средних предприятий в среднесписочной численности работников (без внешних совместителей) всех предприятий и организаций | C9: процентов | D9: =IF((D10+D11)=0,0,(D10+D11)/(D10+D12)*100) -> 26.315789 | E9: =IF((E10+E11)=0,0,(E10+E11)/(E10+E12)*100) -> 25.056579 | F9: =IF((F10+F11)=0,0,(F10+F11)/(F10+F12)*100) -> 22.020202 | G9: =IF((G10+G11)=0,0,(G10+G11)/(G10+G12)*100) -> 23.362593 | H9: =IF((H10+H11)=0,0,(H10+H11)/(H10+H12)*100) -> 23.58681 | I9: =IF((I10+I11)=0,0,(I10+I11)/(I10+I12)*100) -> 23.697479 | J9: =IF((J10+J11)=0,0,(J10+J11)/(J10+J12)*100) -> 23.774345 | K9: https://yadi.sk/i/qNE2kKib3U9fmv | P9: ='Справочник'!$E$6 -> Кобошева Надежда Николаевна | Q9: ='Справочник'!$F$6 -> 8 (38822) 2 55 38 | R9: показатель согласован 20.04.2023 17:20 | S9: Аналитика согласована 21.04.2023 11:30
A10: справочно: | B10: Среднесписочная численность работников (без внешних совместителей) малых предприятий | C10: человек | D10: 396 | E10: 409 | F10: 313 | G10: 353 | H10: 360 | I10: 362 | J10: 364 | L10: Самтарова Марина Айдаровна | M10: 388(48)22-4-36 | N10: 0.47569444 | O10: Показатели для согласования | P10: ='Справочник'!$E$6 -> Кобошева Надежда Николаевна | Q10: ='Справочник'!$F$6 -> 8 (38822) 2 55 38 | R10: показатель согласован 20.04.2023 17:20 | S10: Аналитика согласована 21.04.2023 11:30
B11: Среднесписочная численность работников (без внешних совместителей) средних предприятий | C11: человек | D11: 389 | E11: 366 | F11: 341 | G11: 339 | H11: 341 | I11: 343 | J11: 344 | L11: Самтарова Марина Айдаровна | M11: 388(48)22-4-36 | N11: 0.47569444 | O11: Показатели для согласования | P11: ='Справочник'!$E$6 -> Кобошева Надежда Николаевна | Q11: ='Справочник'!$F$6 -> 8 (38822) 2 55 38 | R11: показатель согласован 20.04.2023 17:20 | S11: Аналитика согласована 21.04.2023 11:30
B12: Среднесписочная численность работников (без внешних совместителей) крупных и средних предприятий и некоммерческих организаций (без субъектов малого предпринимательства) | C12: человек | D12: 2587 | E12: 2684 | F12: 2657 | G12: 2609 | H12: 2612 | I12: 2613 | J12: 2614 | L12: Самтарова Марина Айдаровна | M12: 388(48)22-4-36 | N12: 0.47569444 | O12: Показатели для согласования | P12: ='Справочник'!$E$6 -> Кобошева Надежда Николаевна | Q12: ='Справочник'!$F$6 -> 8 (38822) 2 55 38 | R12: показатель согласован 20.04.2023 17:20 | S12: Аналитика согласована 21.04.2023 11:30
A13: 3 | B13: Объем инвестиций в основной капитал (за исключением бюджетных средств) в расчете на 1 жителя | C13: рублей | D13: =IF((D14-D15)=0,0,((D14-D15)/'Организация муниципального упра'!D20)) -> 218236.41 | E13: =IF((E14-E15)=0,0,((E14-E15)/'Организация муниципального упра'!E20)) -> 11555.417 | F13: =IF((F14-F15)=0,0,((F14-F15)/'Организация муниципального упра'!F20)) -> 5520.9066 | G13: =IF((G14-G15)=0,0,((G14-G15)/'Организация муниципального упра'!G20)) -> 6106.3546 | H13: =IF((H14-H15)=0,0,((H14-H15)/'Организация муниципального упра'!H20)) -> 6320.7807 | I13: =IF((I14-I15)=0,0,((I14-I15)/'Организация муниципального упра'!I20)) -> 6552.8478 | J13: =IF((J14-J15)=0,0,((J14-J15)/'Организация муниципального упра'!J20)) -> 6784.9604 | K13: https://yadi.sk/i/qNE2kKib3U9fmv | P13: =Справочник!$E$8 -> Джадранова Ольга Асылбековна | Q13: =Справочник!$F$8 -> 8 (38822) 2 9511 | R13: показатель согласован 24.04.2023 17:25 | S13: Согласовано с пояснительной запиской
A14: справочно: | B14: Объем инвестиций в основной капитал - всего | C14: тыс. рублей | D14: 4204845 | E14: 488098 | F14: 408078 | G14: 650858 | H14: 676241.46 | I14: 703291.1 | J14: 731422.77 | L14: Кононова Лариса Викторовна | M14: 388(48)22263 | N14: 20.04.2023.9,00 | O14: Показатели и аналитика на согласование | P14: ='Справочник'!$E$8 -> Джадранова Ольга Асылбековна | Q14: ='Справочник'!$F$8 -> 8 (38822) 2 9511 | R14: показатель согласован 24.04.2023 17:25 | S14: Согласовано с пояснительной запиской
B15: Инвестиции в основной капитал за счет бюджетных средств | C15: тыс. рублей | D15: 684037 | E15: 302622 | F15: 320141 | G15: 554860 | H15: 576499.54 | I15: 599559.52 | J15: 623541.9 | L15: Кононова Лариса Викторовна | M15: 388(48)22263 | N15: 20.04.2023.9,00 | O15: Показатели и аналитика на согласование | P15: ='Справочник'!$E$8 -> Джадранова Ольга Асылбековна | Q15: ='Справочник'!$F$8 -> 8 (38822) 2 9511 | R15: показатель согласован 24.04.2023 17:25 | S15: Согласовано с пояснительной запиской
A16: 4 | B16: Доля площади земельных участков, являющихся объектами налогообложения земельным налогом, в общей площади территории городского округа (муниципального района) | C16: процентов | D16: =IF(D17=0,0,D17/D18*100) -> 30.015136 | E16: =IF(E17=0,0,E17/E18*100) -> 30.057826 | F16: =IF(F17=0,0,F17/F18*100) -> 30.084494 | G16: =IF(G17=0,0,G17/G18*100) -> 30.146849 | H16: =IF(H17=0,0,H17/H18*100) -> 30.180993 | I16: =IF(I17=0,0,I17/I18*100) -> 30.227319 | J16: =IF(J17=0,0,J17/J18*100) -> 30.265923 | K16: https://yadi.sk/i/qNE2kKib3U9fmv | P16: =Справочник!E9 -> Ялбаков Аржан Владимирович | Q16: =Справочник!F9 -> 8 (38822) 2-26-08 | R16: 45040 | S16: Согласовано
A17: справочно: | B17: Площадь земельных участков, являющихся объектами налогообложения земельным налогом | C17: га | D17: 388751.84 | E17: 389304.76 | F17: 389650.16 | G17: 390457.77 | H17: 390900 | I17: 391500 | J17: 392000 | L17: Казанцев Алексей Николаевич | M17: 8 (38848) 22021 | N17: 45028.508 | O17: Показатели для согласования | P17: =Справочник!E9 -> Ялбаков Аржан Владимирович | Q17: =Справочник!F9 -> 8 (38822) 2-26-08 | R17: 45040 | S17: Согласовано
B18: Общая площадь территории городского округа (муниципального района) | C18: га | D18: 1295186 | E18: 1295186 | F18: 1295186 | G18: 1295186 | H18: 1295186 | I18: 1295186 | J18: 1295186 | L18: Казанцев Алексей Николаевич | M18: 8 (38848) 22021 | N18: 45028.508 | O18: Показатели для согласования | P18: =Справочник!E9 -> Ялбаков Аржан Владимирович | Q18: =Справочник!F9 -> 8 (38822) 2-26-08 | R18: 45040 | S18: Согласовано
A19: 5 | B19: Доля прибыльных сельскохозяйственных организаций в общем их числе | C19: процентов | D19: =IF(D20=0,0,D20/D21*100) -> 90.47619 | E19: =IF(E20=0,0,E20/E21*100) -> 100 | F19: =IF(F20=0,0,F20/F21*100) -> 94.736842 | G19: =IF(G20=0,0,G20/G21*100) -> 94.736842 | H19: =IF(H20=0,0,H20/H21*100) -> 94.736842 | I19: =IF(I20=0,0,I20/I21*100) -> 94.736842 | J19: =IF(J20=0,0,J20/J21*100) -> 94.736842 | K19: https://yadi.sk/i/qNE2kKib3U9fmv | P19: =Справочник!$E$10 -> Абраменко Геннадий Сергеевич | Q19: =Справочник!$F$10 -> 8 (38822) 2 12 48 | R19: 18.04.2023; 10:11 | S19: согласовано с пояснительной запиской
A20: справочно: | B20: Число прибыльных сельскохозяйственных организаций (для муниципальных районов) | C20: единиц | D20: 19 | E20: 17 | F20: 18 | G20: 18 | H20: 18 | I20: 18 | J20: 18 | L20: Муранова Юлия Евгеньевна | M20: 8 (38848) 22471 | N20: 45033.449 | O20: Показатели и пояснительная для согласования | P20: ='Справочник'!$E$10 -> Абраменко Геннадий Сергеевич | Q20: ='Справочник'!$F$10 -> 8 (38822) 2 12 48 | R20: 18.04.2023; 10:11 | S20: согласовано с пояснительной запиской
B21: Общее число сельскохозяйственных организаций (для муниципальных районов) | C21: единиц | D21: 21 | E21: 17 | F21: 19 | G21: 19 | H21: 19 | I21: 19 | J21: 19 | L21: Муранова Юлия Евгеньевна | M21: 8 (38848) 22471 | N21: 45033.449 | O21: Показатели и пояснительная для согласования | P21: ='Справочник'!$E$10 -> Абраменко Геннадий Сергеевич | Q21: ='Справочник'!$F$10 -> 8 (38822) 2 12 48 | R21: 18.04.2023; 10:11 | S21: согласовано с пояснительной запиской
A22: 6 | B22: Доля протяженности автомобильных дорог общего пользования местного значения, не отвечающих нормативным требованиям, в общей протяженности автомобильных дорог общего пользования местного значения | C22: процентов | D22: =IF(D23=0,0,D23/D24*100) -> 84.991681 | E22: =IF(E23=0,0,E23/E24*100) -> 59.032038 | F22: =IF(F23=0,0,F23/F24*100) -> 59.032038 | G22: =IF(G23=0,0,G23/G24*100) -> 58.991826 | H22: =IF(H23=0,0,H23/H24*100) -> 58.583106 | I22: =IF(I23=0,0,I23/I24*100) -> 58.242507 | J22: =IF(J23=0,0,J23/J24*100) -> 57.901907 | K22: https://yadi.sk/i/qNE2kKib3U9fmv | P22: =Справочник!$E$11 -> Хорошилова Алена Михайловна | Q22: =Справочник!$F$11 -> 8 (38822) 2 22 37 | R22: 17.04.2023, 15:27 | S22: Согласовано с пояснительнойзапиской
A23: справочно: | B23: Протяженность автомобильных дорог общего пользования местного значения, не отвечающих нормативным требованиям | C23: километров | D23: 255.4 | E23: 173.2 | F23: 173.2 | G23: 173.2 | H23: 172 | I23: 171 | J23: 170 | L23: Масьянова Екатерина Владимировна | M23: 83884822128 | N23: 9:36 17.04.2023 г | O23: Показатель и пояснительная на согласование | P23: ='Справочник'!$E$11 -> Хорошилова Алена Михайловна | Q23: ='Справочник'!$F$11 -> 8 (38822) 2 22 37 | R23: 17.04.2023, 15:28 | S23: Согласовано с пояснительнойзапиской
B24: Протяженность автомобильных дорог общего пользования местного значения | C24: километров | D24: 300.5 | E24: 293.4 | F24: 293.4 | G24: 293.6 | H24: 293.6 | I24: 293.6 | J24: 293.6 | L24: Масьянова Екатерина Владимировна | M24: 83884822128 | N24: 9:37 17.04.2023 г | O24: Показатель и пояснительная на согласование | P24: ='Справочник'!$E$11 -> Хорошилова Алена Михайловна | Q24: ='Справочник'!$F$11 -> 8 (38822) 2 22 37 | R24: 17.04.2023, 15:29 | S24: Согласовано с пояснительнойзапиской
A25: 7 | B25: Доля населения, проживающего в населенных пунктах, не имеющих регулярного автобусного и (или) железнодорожного сообщения с административным центром городского округа (муниципального района), в общей численности населения городского округа (муниципального района) | C25: процентов | D25: =IF((('Организация муниципального упра'!D20*1000-'Экономическое развитие'!D26))=0,0,(('Организация муниципального упра'!D20*1000-'Экономическое развитие'!D26)/('Организация муниципального упра'!D20*1000))*100) -> 0 | E25: =IF((('Организация муниципального упра'!E20*1000-'Экономическое развитие'!E26))=0,0,(('Организация муниципального упра'!E20*1000-'Экономическое развитие'!E26)/('Организация муниципального упра'!E20*1000))*100) -> -1.1332561e-14 | F25: =IF((('Организация муниципального упра'!F20*1000-'Экономическое развитие'!F26))=0,0,(('Организация муниципального упра'!F20*1000-'Экономическое развитие'!F26)/('Организация муниципального упра'!F20*1000))*100) -> 0 | G25: =IF((('Организация муниципального упра'!G20*1000-'Экономическое развитие'!G26))=0,0,(('Организация муниципального упра'!G20*1000-'Экономическое развитие'!G26)/('Организация муниципального упра'!G20*1000))*100) -> 0 | H25: =IF((('Организация муниципального упра'!H20*1000-'Экономическое развитие'!H26))=0,0,(('Организация муниципального упра'!H20*1000-'Экономическое развитие'!H26)/('Организация муниципального упра'!H20*1000))*100) -> 0.31685678 | I25: =IF((('Организация муниципального упра'!I20*1000-'Экономическое развитие'!I26))=0,0,(('Организация муниципального упра'!I20*1000-'Экономическое развитие'!I26)/('Организация муниципального упра'!I20*1000))*100) -> 0.56854075 | J25: =IF((('Организация муниципального упра'!J20*1000-'Экономическое развитие'!J26))=0,0,(('Организация муниципального упра'!J20*1000-'Экономическое развитие'!J26)/('Организация муниципального упра'!J20*1000))*100) -> 0.94339623 | K25: https://yadi.sk/i/qNE2kKib3U9fmv | P25: =Справочник!$E$12 -> Угрюмова Алеся Александровна | Q25: =Справочник!$F$12 -> 8 (38822) 2 60 59 | R25: 20.04.2023, 17.58 | S25: Согласовано вместе с пояснительной запиской
A26: справочно: | B26: Среднегодовая численность населения, проживающего в населенных пунктах, имеющих регулярное автобусное и (или) железнодорожное сообщение с административным центром городского округа (муниципального района) | D26: 16133 | E26: 16051 | F26: 15928 | G26: 15721 | H26: 15730 | I26: 15740 | J26: 15750 | L26: Кононова Лариса Викторовна | M26: 22263 | O26: показатель на согласование | P26: ='Справочник'!$E$12 -> Угрюмова Алеся Александровна | Q26: ='Справочник'!$F$12 -> 8 (38822) 2 60 59 | R26: 20.04.2023, 17.58 | S26: Согласовано вместе с пояснительной запиской
A27: 8 | B27: Среднемесячная номинальная начисленная заработная плата работников: | C27: рублей
B28: крупных и средних предприятий и некоммерческих организаций | C28: рублей | D28: 24755.6 | E28: 27305.2 | F28: 29234.8 | G28: 34009.4 | H28: 37409.9 | I28: 41150.89 | J28: 41150.89 | K28: https://yadi.sk/i/qNE2kKib3U9fmv | L28: Кононова Л.В. | M28: 23064 | N28: 45035 | O28: показатель на согласование | P28: Мусихина Татьяна Алексеевна | Q28: 8(388 22) 2-32-34 | R28: 24.04.2023 13.45 | S28: Согласовано
B29: муниципальных дошкольных образовательных учреждений | C29: рублей | D29: 21078.8 | E29: 21969.8 | F29: 25179.9 | G29: 28698.3 | H29: 29845 | I29: 31038 | J29: 31038 | K29: https://yadi.sk/i/qNE2kKib3U9fmv | L29: Рахманова Марина Николаевна | M29: 89136923110 | N29: 45037 | O29: Направлено на согласование | P29: =Справочник!$E15 -> Никитина Светлана Сергеевна | Q29: =Справочник!$F15 -> 8 (38822) 2 22 93 | R29: 24.04.2023; 12:15 | S29: Согласовано
B30: муниципальных общеобразовательных учреждений | C30: рублей | D30: 23301.8 | E30: 25740.7 | F30: 30619.1 | G30: 35589.1 | H30: 37012 | I30: 38492 | J30: 38492 | K30: https://yadi.sk/i/qNE2kKib3U9fmv | L30: Рахманова Марина Николаевна | M30: 89136923110 | N30: 45037 | O30: Направлено на согласование | R30: 24.04.2023; 12:16 | S30: Согласовано
B31: учителей муниципальных общеобразовательных учреждений | C31: рублей | D31: 25762 | E31: 27578.1 | F31: 33950.6 | G31: 40117.9 | H31: 41721 | I31: 43389 | J31: 43389 | K31: https://yadi.sk/i/qNE2kKib3U9fmv | L31: Рахманова Марина Николаевна | M31: 89136923110 | N31: 45037 | O31: Направлено на согласование | P31: =Справочник!$E17 -> Никитина Светлана Сергеевна | Q31: =Справочник!$F17 -> 8 (38822) 2 22 93 | R31: 21.04.2023; 17:00 | S31: Согласовано
B32: муниципальных учреждений культуры и искусства | C32: рублей | D32: 26581 | E32: 27695 | F32: 30269.30 | G32: 31169 | H32: 37704.91 | I32: 40345.5 | J32: 43151.04 | K32: https://yadi.sk/i/qNE2kKib3U9fmv | L32: Казанцева Жанна Григорьевна | M32: 83884822283 | N32: 45028 | O32: показатели для согласования | P32: ='Справочник'!$E18 -> Сабина Айару Эзеновна | Q32: ='Справочник'!$F18 -> 8 (38822) 2 55 88 | R32: 45035 | S32: согласовано
B33: муниципальных учреждений физической культуры и спорта | C33: рублей | D33: 0 | E33: 0 | F33: 0 | G33: 0 | K33: https://yadi.sk/i/qNE2kKib3U9fmv | P33: =Справочник!E19 -> Титанакова Татьяна Борисовна | Q33: =Справочник!F19 -> 8 (388 22) 6-11-90

Sheet Дошкольное образование
B1: ='Экономическое развитие'!$B$1 -> МО "Усть-Коксинский район"
A2: ='Экономическое развитие'!A2:K2 -> Заочное согласование показателей для оценки эфективности деятельности органов местного самоуправления муниципальных районов и городского округа в Республике Алтай за 2022 год и пояснительных записок к ним
A3: № показателя | B3: Наименование показателя | C3: Единицы измерения | D3: Отчетная информация | K3: пояснительная записка | L3: Муниципальное образовние | P3: Ведомство (согласование ПОЯСНИТЕЛЬНЫХ записок и ведомственных целевых показатателей)
D4: 2019 | E4: 2020 | F4: 2021 | G4: 2022 | H4: 2023 | I4: 2024 | J4: 2025 | L4: ФИО (полностью) | M4: контактный телефон (ОБЯЗАТЕЛЬНО) | N4: дата и время внесения на согласования (ОБЯЗАТЕЛЬНО) | O4: Комментарий ответственного сотрудника ОБЯЗАТЕЛЬНО | P4: ФИО (полностью) | Q4: контактный телефон (обязательно) | R4: дата и время согласования (ОБЯЗАТЕЛЬНО) | S4: комментарий ответственного сотрудника ОБЯЗАТЕЛЬНО
B5: II. Дошкольное образование
A6: 9 | B6: Доля детей в возрасте 1 - 6 лет, получающих дошкольную образовательную услугу и (или) услугу по их содержанию в муниципальных образовательных учреждениях в общей численности детей в возрасте 1 - 6 лет | C6: процентов | D6: =IF(D7=0,0,D7/D10*100) -> 74.936387 | E6: =IF(E7=0,0,E7/E10*100) -> 56.057753 | F6: =IF(F7=0,0,F7/F10*100) -> 71.678832 | G6: =IF(G7=0,0,G7/G10*100) -> 76.642336 | H6: =IF(H7=0,0,H7/H10*100) -> 76.811594 | I6: =IF(I7=0,0,I7/I10*100) -> 77.173913 | J6: =IF(J7=0,0,J7/J10*100) -> 77.536232 | K6: https://yadi.sk/i/qNE2kKib3U9fmv | L6: Шилова Екатерина Валерьевна | M6: 89833266567 | N6: 45035 | O6: направлено на согласование | P6: Костюнина Алена Анатольевна | Q6: =Справочник!$F$21 -> 8 (38822) 2 25 10 | R6: 21.04.2023 13.55 | S6: согласовано
A7: справочно: | B7: Число детей в возрасте 1-6 лет, получающих дошкольную образовательную услугу и (или) услугу по их содержанию в муниципальных образовательных учреждениях | C7: человек | D7: 1178 | E7: 893 | F7: 982 | G7: 1050 | H7: 1060 | I7: 1065 | J7: 1070 | L7: Шилова Екатерина Валерьевна | M7: 89833266567 | N7: 45035 | O7: направлено на согласование | P7: Костюнина Алена Анатольевна | Q7: ='Справочник'!$F$21 -> 8 (38822) 2 25 10 | R7: 21.04.2023 13.55 | S7: согласовано
A8: 10 | B8: Доля детей в возрасте 1 - 6 лет, стоящих на учете для определения в муниципальные дошкольные образовательные учреждения, в общей численности детей в возрасте 1 - 6 лет | C8: процентов | D8: =IF(D9=0,0,D9/D10*100) -> 8.5877863 | E8: =IF(E9=0,0,E9/E10*100) -> 6.0263653 | F8: =IF(F9=0,0,F9/F10*100) -> 4.5985401 | G8: =IF(G9=0,0,G9/G10*100) -> 9.4890511 | H8: =IF(H9=0,0,H9/H10*100) -> 6.1594203 | I8: =IF(I9=0,0,I9/I10*100) -> 6.1594203 | J8: =IF(J9=0,0,J9/J10*100) -> 6.1594203 | K8: https://yadi.sk/i/qNE2kKib3U9fmv | L8: Шилова Екатерина Валерьевна | M8: 89833266567 | N8: 45035 | O8: направлено на согласование | P8: Костюнина Алена Анатольевна | Q8: =Справочник!$F$22 -> 8 (38822) 2 25 10 | R8: 21.04.2023 13.55 | S8: согласовано
B9: Численность детей в возрасте 1-6 лет, состоящих на учете для определения в муниципальные дошкольные образовательные учреждения | C9: человек | D9: 135 | E9: 96 | F9: 63 | G9: 130 | H9: 85 | I9: 85 | J9: 85 | L9: Шилова Екатерина Валерьевна | M9: 89833266567 | N9: 45035 | O9: направлено на согласование | P9: Костюнина Алена Анатольевна | Q9: ='Справочник'!$F$22 -> 8 (38822) 2 25 10 | R9: 21.04.2023 13.55 | S9: согласовано
B10: Общая численность детей в возрасте 1-6 лет | C10: человек | D10: 1572 | E10: 1593 | F10: 1370 | G10: 1370 | H10: 1380 | I10: 1380 | J10: 1380 | L10: Шилова Екатерина Валерьевна | M10: 89833266567 | N10: 45035 | O10: направлено на согласование | P10: Костюнина Алена Анатольевна | Q10: ='Справочник'!$F$22 -> 8 (38822) 2 25 10 | R10: 21.04.2023 13.55 | S10: согласовано
A11: 11 | B11: Доля муниципальных дошкольных образовательных учреждений, здания которых находятся в аварийном состоянии или требуют капитального ремонта, в общем числе муниципальных дошкольных образовательных учреждений | C11: процентов | D11: =IF(D12=0,0,D12/D13*100) -> 57.692308 | E11: =IF(E12=0,0,E12/E13*100) -> 46.153846 | F11: =IF(F12=0,0,F12/F13*100) -> 46.153846 | G11: =IF(G12=0,0,G12/G13*100) -> 46.153846 | H11: =IF(H12=0,0,H12/H13*100) -> 46.153846 | I11: =IF(I12=0,0,I12/I13*100) -> 42.307692 | J11: =IF(J12=0,0,J12/J13*100) -> 38.461538 | K11: https://yadi.sk/i/qNE2kKib3U9fmv | L11: Шилова Екатерина Валерьевна | M11: 89833266567 | N11: 45035 | O11: направлено на согласование | P11: =Справочник!$E$23 -> Кергилова Галина Владимировна | Q11: =Справочник!$F$23 -> 8 (38822) 2 35 22 | R11: 21.04.2023 в 17.00 | S11: согласовано
A12: справочно: | B12: Количество муниципальных дошкольных образовательных учреждений, здания которых находятся в аварийном состоянии или требуют капитального ремонта | C12: единиц | D12: 15 | E12: 12 | F12: 12 | G12: 12 | H12: 12 | I12: 11 | J12: 10 | L12: Шилова Екатерина Валерьевна | M12: 89833266567 | N12: 45035 | O12: направлено на согласование | P12: ='Справочник'!$E$23 -> Кергилова Галина Владимировна | Q12: ='Справочник'!$F$23 -> 8 (38822) 2 35 22 | R12: 21.04.2023 в 17.00 | S12: согласовано
B13: Количество муниципальных дошкольных образовательных учреждений | C13: единиц | D13: 26 | E13: 26 | F13: 26 | G13: 26 | H13: 26 | I13: 26 | J13: 26 | L13: Шилова Екатерина Валерьевна | M13: 89833266567 | N13: 45035 | O13: направлено на согласование | P13: ='Справочник'!$E$23 -> Кергилова Галина Владимировна | Q13: ='Справочник'!$F$23 -> 8 (38822) 2 35 22 | R13: 21.04.2023 в 17.00 | S13: согласовано

Sheet Общее и доп образование
B1: ='Экономическое развитие'!$B$1 -> МО "Усть-Коксинский район"
A2: ='Экономическое развитие'!A2:K2 -> Заочное согласование показателей для оценки эфективности деятельности органов местного самоуправления муниципальных районов и городского округа в Республике Алтай за 2022 год и пояснительных записок к ним
A3: № показателя | B3: Наименование показателя | C3: Единицы измерения | D3: Отчетная информация | K3: пояснительная записка | L3: Муниципальное образовние | P3: Ведомство (согласование ПОЯСНИТЕЛЬНЫХ записок и ведомственных целевых показатателей)
D4: 2019 | E4: 2020 | F4: 2021 | G4: 2022 | H4: 2023 | I4: 2024 | J4: 2025 | L4: ФИО (полностью) | M4: контактный телефон (ОБЯЗАТЕЛЬНО) | N4: дата и время внесения на согласования (ОБЯЗАТЕЛЬНО) | O4: Комментарий ответственного сотрудника ОБЯЗАТЕЛЬНО | P4: ФИО (полностью) | Q4: контактный телефон (обязательно) | R4: дата и время согласования (ОБЯЗАТЕЛЬНО) | S4: комментарий ответственного сотрудника ОБЯЗАТЕЛЬНО
B5: III. Общее и дополнительное образование
A6: 12 | B6: Доля выпускников муниципальных общеобразовательных учреждений, не получивших аттестат о среднем (полном) образовании, в общей численности выпускников муниципальных общеобразовательных учреждений | C6: процентов | D6: =IF((D7-D8)=0,0,(D7-D8)/(D9+D10+D11+D12+D13+D14)*100) -> 0 | E6: =IF((E7+E8)=0,0,(E7+E8)/(E9+E10+E11+E12+E13+E14)*100) -> 0 | F6: =IF((F7+F8)=0,0,(F7+F8)/(F9+F10+F11+F12+F13+F14)*100) -> 0 | G6: =IF((G7+G8)=0,0,(G7+G8)/(G9+G10+G11+G12+G13+G14)*100) -> 4.8387097 | H6: =IF((H7+H8)=0,0,(H7+H8)/(H9+H10+H11+H12+H13+H14)*100) -> 0 | I6: =IF((I7+I8)=0,0,(I7+I8)/(I9+I10+I11+I12+I13+I14)*100) -> 0 | J6: =IF((J7+J8)=0,0,(J7+J8)/(J9+J10+J11+J12+J13+J14)*100) -> 0 | L6: Рахманова Марина Николаевна | M6: 89136923110 | N6: 45035 | O6: Направлено на согласование | P6: =Справочник!$E$25 -> Дзукаева Полина Александровна | Q6: =Справочник!$F$25 -> 8 (38822) 2 22 94 | R6: 19.04.2023, 12.50 | S6: согласовано
A7: справочно: | B7: Численность обучающихся выпускного класса общеобразовательных учреждений, не получивших аттестат о среднем (полном) образовании | C7: человек | D7: 0 | E7: 0 | F7: 0 | G7: 3 | H7: 0 | I7: 0 | J7: 0 | L7: Рахманова Марина Николаевна | M7: 89136923110 | N7: 45035 | O7: Направлено на согласование | P7: ='Справочник'!$E$25 -> Дзукаева Полина Александровна | Q7: ='Справочник'!$F$25 -> 8 (38822) 2 22 94 | R7: 19.04.2023, 12.50 | S7: согласовано
B8: Численность обучающихся выпускного класса интернатных общеобразовательных учреждений, не получивших аттестат о среднем (полном) образовании | C8: человек | D8: 0 | E8: 0 | F8: 0 | G8: 0 | H8: 0 | I8: 0 | J8: 0 | L8: Рахманова Марина Николаевна | M8: 89136923110 | N8: 45035 | O8: Направлено на согласование | P8: ='Справочник'!$E$25 -> Дзукаева Полина Александровна | Q8: ='Справочник'!$F$25 -> 8 (38822) 2 22 94 | R8: 19.04.2023, 12.30 | S8: согласовано
B9: Численность обучающихся 11 класса общеобразовательных организаций, допущенных к государственной итоговой аттестации | C9: человек | D9: 88 | E9: 79 | F9: 75 | G9: 62 | H9: 67 | I9: 78 | J9: 78 | L9: Рахманова Марина Николаевна | M9: 89136923110 | N9: 45035 | O9: Направлено на согласование | P9: ='Справочник'!$E$25 -> Дзукаева Полина Александровна | Q9: ='Справочник'!$F$25 -> 8 (38822) 2 22 94 | R9: 19.04.2023, 12.50 | S9: согласовано
B10: Численность обучающихся 12 класса общеобразовательных организаций, допущенных к государственной итоговой аттестации | C10: человек | D10: 0 | E10: 0 | F10: 0 | G10: 0 | H10: 0 | I10: 0 | J10: 0 | L10: Рахманова Марина Николаевна | M10: 89136923110 | N10: 45035 | O10: Направлено на согласование | P10: ='Справочник'!$E$25 -> Дзукаева Полина Александровна | Q10: ='Справочник'!$F$25 -> 8 (38822) 2 22 94 | R10: 19.04.2023, 12.30 | S10: согласовано
B11: Численность обучающихся, выдержавших экзамены экстерном за курс средней школы и получивших аттестат о среднем (полном) общем образовании, в общеобразовательных учреждениях | C11: человек | D11: 0 | E11: 0 | F11: 0 | G11: 0 | H11: 0 | I11: 0 | J11: 0 | L11: Рахманова Марина Николаевна | M11: 89136923110 | N11: 45035 | O11: Направлено на согласование | P11: ='Справочник'!$E$25 -> Дзукаева Полина Александровна | Q11: ='Справочник'!$F$25 -> 8 (38822) 2 22 94 | R11: 19.04.2023, 12.30 | S11: согласовано
B12: Численность обучающихся, окончившие 11 класс (окончили с аттестатом о среднем (полном) общем образовании), интернатные общеобразовательные учреждения | C12: человек | D12: 0 | E12: 0 | F12: 0 | G12: 0 | H12: 0 | I12: 0 | J12: 0 | L12: Рахманова Марина Николаевна | M12: 89136923110 | N12: 45035 | O12: Направлено на согласование | P12: ='Справочник'!$E$25 -> Дзукаева Полина Александровна | Q12: ='Справочник'!$F$25 -> 8 (38822) 2 22 94 | R12: 19.04.2023, 12.30 | S12: согласовано
B13: Численность обучающихся, окончившие 12 класс, интернатные общеобразовательные школы-интернаты | C13: человек | D13: 0 | E13: 0 | F13: 0 | G13: 0 | H13: 0 | I13: 0 | J13: 0 | L13: Рахманова Марина Николаевна | M13: 89136923110 | N13: 45035 | O13: Направлено на согласование | P13: ='Справочник'!$E$25 -> Дзукаева Полина Александровна | Q13: ='Справочник'!$F$25 -> 8 (38822) 2 22 94 | R13: 19.04.2023, 12.30 | S13: согласовано
B14: Численность обучающихся, выдержавших экзамены экстерном за курс средней школы и получивших аттестат о среднем (полном) общем образовании, в интернатных общеобразовательных учреждениях | C14: человек | D14: 0 | E14: 0 | F14: 0 | G14: 0 | H14: 0 | I14: 0 | J14: 0 | L14: Рахманова Марина Николаевна | M14: 89136923110 | N14: 45035 | O14: Направлено на согласование | P14: ='Справочник'!$E$25 -> Дзукаева Полина Александровна | Q14: ='Справочник'!$F$25 -> 8 (38822) 2 22 94 | R14: 19.04.2023, 12.30 | S14: согласовано
A15: 13 | B15: Доля муниципальных общеобразовательных учреждений, соответствующих современным требованиям обучения, в общем количестве муниципальных общеобразовательных учреждений | C15: процентов | D15: =IF(D16=0,0,D16/D17*100) -> 50 | E15: =IF(E16=0,0,E16/E17*100) -> 65 | F15: =IF(F16=0,0,F16/F17*100) -> 70 | G15: =IF(G16=0,0,G16/G17*100) -> 70 | H15: =IF(H16=0,0,H16/H17*100) -> 85 | I15: =IF(I16=0,0,I16/I17*100) -> 85 | J15: =IF(J16=0,0,J16/J17*100) -> 85 | K15: https://yadi.sk/i/qNE2kKib3U9fmv | L15: Рахманова Марина Николаевна | M15: 89136923110 | N15: 45035 | O15: Направлено на согласование | P15: =Справочник!$E$26 -> Кергилова Галина Владимировна | Q15: =Справочник!$F$26 -> 8 (38822) 2 35 22 | R15: 21.04.2023 в 17.00 | S15: согласовано
A16: справочно: | B16: Число муниципальных общеобразовательных учреждений, соответствующих современным требованиям обучения | C16: единиц | D16: 10 | E16: 13 | F16: 14 | G16: 14 | H16: 17 | I16: 17 | J16: 17 | L16: Рахманова Марина Николаевна | M16: 89136923110 | N16: 45035 | O16: Направлено на согласование | P16: ='Справочник'!$E$26 -> Кергилова Галина Владимировна | Q16: ='Справочник'!$F$26 -> 8 (38822) 2 35 22 | R16: 21.04.2023 в 17.00 | S16: согласовано
B17: Общее количество муниципальных общеобразовательных учреждений | C17: единиц | D17: 20 | E17: 20 | F17: 20 | G17: 20 | H17: 20 | I17: 20 | J17: 20 | L17: Рахманова Марина Николаевна | M17: 89136923110 | N17: 45035 | O17: Направлено на согласование | P17: ='Справочник'!$E$26 -> Кергилова Галина Владимировна | Q17: ='Справочник'!$F$26 -> 8 (38822) 2 35 22 | R17: 21.04.2023 в 17.00 | S17: согласовано
A18: 14 | B18: Доля муниципальных общеобразовательных учреждений, здания которых находятся в аварийном состоянии или требуют капитального ремонта, в общем количестве муниципальных общеобразовательных учреждений | C18: процентов | D18: =IF(D19=0,0,D19/D17*100) -> 50 | E18: =IF(E19=0,0,E19/E17*100) -> 25 | F18: =IF(F19=0,0,F19/F17*100) -> 70 | G18: =IF(G19=0,0,G19/G17*100) -> 60 | H18: =IF(H19=0,0,H19/H17*100) -> 45 | I18: =IF(I19=0,0,I19/I17*100) -> 45 | J18: =IF(J19=0,0,J19/J17*100) -> 45 | K18: https://yadi.sk/i/qNE2kKib3U9fmv | L18: Рахманова Марина Николаевна | M18: 89136923110 | N18: 45035 | O18: Направлено на согласование | P18: ='Справочник'!$E$26 -> Кергилова Галина Владимировна | Q18: ='Справочник'!$F$26 -> 8 (38822) 2 35 22 | R18: 21.04.2023 в 17.00 | S18: согласовано
A19: справочно: | B19: Количество муниципальных общеобразовательных учреждений, здания которых находятся в аварийном состоянии или требуют капитального ремонта | C19: единиц | D19: 10 | E19: 5 | F19: 14 | G19: 12 | H19: 9 | I19: 9 | J19: 9 | L19: Рахманова Марина Николаевна | M19: 89136923110 | N19: 45035 | O19: Направлено на согласование | P19: ='Справочник'!$E$26 -> Кергилова Галина Владимировна | Q19: ='Справочник'!$F$26 -> 8 (38822) 2 35 22 | R19: 21.04.2023 в 17.00 | S19: согласовано
A20: 15 | B20: Доля детей первой и второй групп здоровья в общей численности обучающихся в муниципальных общеобразовательных учреждениях | C20: процентов | D20: =IF(D21=0,0,D21/D22*100) -> 89.572471 | E20: =IF(E21=0,0,E21/E22*100) -> 91.038697 | F20: =IF(F21=0,0,F21/F22*100) -> 89.120612 | G20: 86.33 | H20: =IF(H21=0,0,H21/H22*100) -> 86.612576 | I20: =IF(I21=0,0,I21/I22*100) -> 86.612576 | J20: =IF(J21=0,0,J21/J22*100) -> 86.612576 | L20: Рахманова Марина Николаевна | M20: 89136923110 | N20: 45037 | O20: Исправлено, Направлено на согласование | P20: =Справочник!$E$28 -> Чернышова Татьяна Анатольевна | Q20: =Справочник!$F$28 -> 8 (38822) 2 64 91 | R20: 21.04.2023, 12:21 | S20: согласовано
A21: справочно: | B21: Численность детей первой и второй групп здоровья, обучающихся в муниципальных общеобразовательных учреждениях | C21: человек | D21: 2577 | E21: 2682 | F21: 2564 | G21: 2135 | H21: 2135 | I21: 2135 | J21: 2135 | L21: Рахманова Марина Николаевна | M21: 89136923110 | N21: 45037 | O21: Исправлено, Направлено на согласование | P21: ='Справочник'!$E$28 -> Чернышова Татьяна Анатольевна | Q21: ='Справочник'!$F$28 -> 8 (38822) 2 64 91 | R21: 21.04.2023, 12:21 | S21: согласовано
B22: Общее число осмотренных детей, обучающихся в муниципальных общеобразовательных учреждениях | C22: человек | D22: 2877 | E22: 2946 | F22: 2877 | G22: 2465 | H22: 2465 | I22: 2465 | J22: 2465 | L22: Рахманова Марина Николаевна | M22: 89136923110 | N22: 45037 | O22: Исправлено, Направлено на согласование | P22: =Справочник!E30 -> Чернышова Татьяна Анатольевна | Q22: =Справочник!F30 -> 9 (38822) 2 64 91 | R22: 21.04.2023, 12:21 | S22: согласовано
A23: 16 | B23: Доля обучающихся в муниципальных общеобразовательных учреждениях, занимающихся во вторую (третью) смену, в общей численности обучающихся в муниципальных общеобразовательных учреждениях | C23: процентов | D23: =IF(D24=0,0,D24/D25*100) -> 21.2374 | E23: =IF(E24=0,0,E24/E25*100) -> 26.140351 | F23: =IF(F24=0,0,F24/F25*100) -> 23.114525 | G23: =IF(G24=0,0,G24/G25*100) -> 24.115198 | H23: =IF(H24=0,0,H24/H25*100) -> 24.115198 | I23: =IF(I24=0,0,I24/I25*100) -> 24.115198 | J23: =IF(J24=0,0,J24/J25*100) -> 24.115198 | L23: Рахманова Марина Николаевна | M23: 89136923110 | N23: 45035 | O23: Направлено на согласование | P23: =Справочник!$E$31 -> Бидинова Карина Борисовна | Q23: =Справочник!$F$31 -> 8 (38822) 2 71 34 | R23: 21.04.2023, 16:08 | S23: согласовано
A24: справочно: | B24: Число обучающихся в муниципальных общеобразовательных учреждениях, занимающихся во вторую (третью) смену | C24: человек | D24: 611 | E24: 745 | F24: 662 | G24: 695 | H24: 695 | I24: 695 | J24: 695 | L24: Рахманова Марина Николаевна | M24: 89136923110 | N24: 45035 | O24: Направлено на согласование | P24: ='Справочник'!$E$31 -> Бидинова Карина Борисовна | Q24: ='Справочник'!$F$31 -> 8 (38822) 2 71 34 | R24: 21.04.2023, 16:08 | S24: согласовано
B25: Численность детей, обучающихся в муниципальных общеобразовательных учреждениях, без учета обучающихся вечерних (сменных) общеобразовательных организаций | C25: человек | D25: 2877 | E25: 2850 | F25: 2864 | G25: 2882 | H25: 2882 | I25: 2882 | J25: 2882 | L25: Рахманова Марина Николаевна | M25: 89136923110 | N25: 45035 | O25: Направлено на согласование | P25: =[1]Справочник!$E$31 -> Бокова Алла Мироновна | Q25: =[1]Справочник!$F$31 -> 8 (38822) 2 31 03 | R25: 21.04.2023, 16:08 | S25: согласовано
A26: 17 | B26: Расходы бюджета муниципального образования на общее образование в расчете на 1 обучающегося в муниципальных общеобразовательных учреждениях | C26: тысяч рублей | D26: =IF(D27=0,0,D27/D22) -> 77.829579 | E26: =IF(E27=0,0,E27/E28) -> 70.314351 | F26: =IF(F27=0,H270,F27/F28) -> 51.811453 | G26: =IF(G27=0,0,G27/G28) -> 61.669971 | H26: =IF(#REF!=0,0,#REF!/H28) -> #REF! | I26: =IF(I27=0,0,I27/I28) -> 72.481647 | J26: =IF(J27=0,0,J27/J28) -> 72.481647 | K26: https://yadi.sk/i/qNE2kKib3U9fmv | L26: Рахманова Марина Николаевна | M26: 89136923110 | N26: 45035 | O26: Направлено на согласование | P26: =Справочник!$E$32 -> Никитина Светлана Сергеевна | Q26: =Справочник!$F$32 -> 8 (38822) 2 22 93 | R26: 24.04.2023; 18:40 | S26: Согласовано
A27: справочно: | B27: Общий объем расходов бюджета муниципального образования на общее образование | C27: тыс. рублей | D27: 223915.7 | E27: 200395.9 | F27: 148388 | G27: 195345.8 | H27: 203158 | I27: 211284 | J27: 211284 | L27: Рахманова Марина Николаевна | M27: 89136923110 | N27: 45035 | O27: Направлено на согласование | P27: ='Справочник'!$E$32 -> Никитина Светлана Сергеевна | Q27: ='Справочник'!$F$32 -> 8 (38822) 2 22 93 | R27: 24.04.2023; 12:18 | S27: Согласовано
B28: Среднегодовая численность обучающихся в муниципальных общеобразовательных организациях | C28: человек | E28: 2850 | F28: 2864 | G28: 3167.6 | H28: 2915 | I28: 2915 | J28: 2915 | L28: Рахманова Марина Николаевна | M28: 89136923110 | N28: 45035 | O28: Направлено на согласование | R28: 24.04.2023; 18:40 | S28: Согласовано
A29: 18 | B29: Доля детей в возрасте 5 - 18 лет, получающих услуги по дополнительному образованию в организациях различной организационно-правовой формы и формы собственности, в общей численности детей данной возрастной группы | C29: процентов | D29: 56 | E29: =IF(E30=0,0,E30/E31*100) -> 65.111165 | F29: 75.58 | G29: =IF(G30=0,0,G30/G31*100) -> 77.260982 | H29: =IF(H30=0,0,H30/H31*100) -> 79.301423 | I29: =IF(I30=0,0,I30/I31*100) -> 80.103359 | J29: =IF(J30=0,0,J30/J31*100) -> 82.474227 | K29: https://yadi.sk/i/qNE2kKib3U9fmv | L29: 695 | M29: 89136923110 | N29: 45035 | O29: Направлено на согласование | P29: =Справочник!$E$33 -> Тырышкина Инга Владимировна | Q29: =Справочник!$F$33 -> 8 (38822) 2 37 22 | R29: 20.04.2023, 10.19 | S29: согласовано
A30: справочно: | B30: Число детей в возрасте 5-18 лет, получающих услуги по дополнительному образованию в организациях различной организационно-правовой формы и формы собственности | C30: человек | D30: 2117 | E30: 2665 | F30: 2954 | G30: 2990 | H30: 3065 | I30: 3100 | J30: 3200 | L30: Рахманова Марина Николаевна | M30: 89136923110 | N30: 45035 | O30: Направлено на согласование | P30: ='Справочник'!$E$33 -> Тырышкина Инга Владимировна | Q30: ='Справочник'!$F$33 -> 8 (38822) 2 37 22 | R30: 20.04.2023, 10.19 | S30: согласовано
B31: Общая численность детей в возрасте 5-18 лет | C31: человек | D31: 3780 | E31: 4093 | F31: 3908 | G31: 3870 | H31: 3865 | I31: 3870 | J31: 3880 | L31: Рахманова Марина Николаевна | M31: 89136923110 | N31: 45035 | O31: Направлено на согласование | P31: ='Справочник'!$E$33 -> Тырышкина Инга Владимировна | Q31: ='Справочник'!$F$33 -> 8 (38822) 2 37 22 | R31: 20.04.2023, 10.19 | S31: согласовано

Sheet Культура
B1: ='Экономическое развитие'!$B$1 -> МО "Усть-Коксинский район"
A2: ='Экономическое развитие'!A2:K2 -> Заочное согласование показателей для оценки эфективности деятельности органов местного самоуправления муниципальных районов и городского округа в Республике Алтай за 2022 год и пояснительных записок к ним
A3: № показателя | B3: Наименование показателя | C3: Единицы измерения | D3: Отчетная информация | K3: пояснительная записка | L3: Муниципальное образовние | P3: Ведомство (согласование ПОЯСНИТЕЛЬНЫХ записок и ведомственных целевых показатателей)
D4: 2019 | E4: 2020 | F4: 2021 | G4: 2022 | H4: 2023 | I4: 2024 | J4: 2025 | L4: ФИО (полностью) | M4: контактный телефон (ОБЯЗАТЕЛЬНО) | N4: дата и время внесения на согласования (ОБЯЗАТЕЛЬНО) | O4: Комментарий ответственного сотрудника ОБЯЗАТЕЛЬНО | P4: ФИО (полностью) | Q4: контактный телефон (обязательно) | R4: дата и время согласования (ОБЯЗАТЕЛЬНО) | S4: комментарий ответственного сотрудника ОБЯЗАТЕЛЬНО
B5: IV. Культура
A6: 19 | B6: Уровень фактической обеспеченности учреждениями культуры от нормативной потребности:
B7: клубами и учреждениями клубного типа | C7: процентов | D7: =IF(D8=0,0,D8/D9*100) -> 87.823504 | E7: =IF(E8=0,0,E8/E9*100) -> 96.428571 | F7: =IF(F8=0,0,F8/F9*100) -> 96.428571 | G7: =IF(G8=0,0,G8/G9*100) -> 96.428571 | H7: =IF(H8=0,0,H8/H9*100) -> 96.428571 | I7: =IF(I8=0,0,I8/I9*100) -> 96.428571 | J7: =IF(J8=0,0,J8/J9*100) -> 96.428571 | P7: Пильтина Чечеш Михайловна | Q7: =Справочник!$F$36 -> 8 (38822) 2 22 02 | R7: Согласован 21.04.2023 10:19 | S7: Замечаний нет
A8: справочно: | B8: Количество клубов и учреждений клубного типа | C8: единиц | D8: 2070 | E8: 27 | F8: 27 | G8: 27 | H8: 27 | I8: 27 | J8: 27 | L8: Казанцева Жанна Григорьевна | M8: 83884822283 | N8: 45036.443 | O8: показатели для согласования | P8: Пильтина Чечеш Михайловна | Q8: ='Справочник'!$F$36 -> 8 (38822) 2 22 02 | R8: Согласован 21.04.2023 10:19 | S8: Замечаний нет
B9: Требуемое количество клубов и учреждений клубного типа в соответствии с утвержденным нормативом | C9: единиц | D9: 2357 | E9: 28 | F9: 28 | G9: 28 | H9: 28 | I9: 28 | J9: 28 | L9: Казанцева Жанна Григорьевна | M9: 83884822283 | N9: 45036.443 | O9: показатели для согласования Аналитика доработана. | P9: Пильтина Чечеш Михайловна | Q9: ='Справочник'!$F$36 -> 8 (38822) 2 22 02 | R9: Согласован 21.04.2023 10:19 | S9: Замечаний нет
B10: библиотеками | C10: процентов | D10: =IF(D11=0,0,D11/D12*100) -> 86.363636 | E10: =IF(E11=0,0,E11/E12*100) -> 86.363636 | F10: =IF(F11=0,0,F11/F12*100) -> 86.363636 | G10: =IF(G11=0,0,G11/G12*100) -> 86.363636 | H10: =IF(H11=0,0,H11/H12*100) -> 86.363636 | I10: =IF(I11=0,0,I11/I12*100) -> 86.363636 | J10: =IF(J11=0,0,J11/J12*100) -> 86.363636 | K10: https://yadi.sk/i/qNE2kKib3U9fmv | P10: Пильтина Чечеш Михайловна | Q10: =Справочник!$F$37 -> 8 (38822) 2 22 02 | R10: Согласован 20.04.2023г. 15:48 | S10: Замечаний нет
A11: справочно: | B11: Количество библиотек | C11: единиц | D11: 19 | E11: 19 | F11: 19 | G11: 19 | H11: 19 | I11: 19 | J11: 19 | L11: Казанцева Жанна Григорьевна | M11: 83884822283 | N11: 45028.443 | O11: показатели для согласования | P11: Пильтина Чечеш Михайловна | Q11: ='Справочник'!$F$37 -> 8 (38822) 2 22 02 | R11: Согласован 20.04.2023г. 15:48 | S11: Замечаний нет
B12: Нормативная потребность в библиотеках | C12: единиц | D12: 22 | E12: 22 | F12: 22 | G12: 22 | H12: 22 | I12: 22 | J12: 22 | L12: Казанцева Жанна Григорьевна | M12: 83884822283 | N12: 45028.443 | O12: показатели для согласования | P12: Пильтина Чечеш Михайловна | Q12: ='Справочник'!$F$37 -> 8 (38822) 2 22 02 | R12: Согласован 20.04.2023г. 15:48 | S12: Замечаний нет
B13: парками культуры и отдыха | C13: процентов | D13: =IF(D14=0,0,D14/D15*100) -> 0 | E13: =IF(E14=0,0,E14/E15*100) -> 0 | F13: =IF(F14=0,0,F14/F15*100) -> 0 | G13: =IF(G14=0,0,G14/G15*100) -> 0 | H13: =IF(H14=0,0,H14/H15*100) -> 0 | I13: =IF(I14=0,0,I14/I15*100) -> 0 | J13: =IF(J14=0,0,J14/J15*100) -> 0 | K13: https://yadi.sk/i/qNE2kKib3U9fmv | P13: Пильтина Чечеш Михайловна | Q13: ='Справочник'!$F$37 -> 8 (38822) 2 22 02 | R13: Согласован 20.04.2023г. 15:48 | S13: Замечаний нет
A14: справочно: | B14: Количество парков культуры и отдыха | C14: единиц | D14: 0 | E14: 0 | F14: 0 | G14: 0 | H14: 0 | I14: 0 | J14: 0 | L14: Казанцева Жанна Григорьевна | M14: 83884822283 | N14: 45028.443 | O14: показатели для согласования | P14: Пильтина Чечеш Михайловна | Q14: =Справочник!$F$38 -> 8 (38822) 2 22 02 | R14: Согласован 20.04.2023г. 15:48 | S14: Замечаний нет
B15: Нормативная потребность в парках культуры и отдыха | C15: единиц | D15: 0 | E15: 0 | F15: 0 | G15: 0 | H15: 0 | I15: 0 | J15: 0 | L15: Казанцева Жанна Григорьевна | M15: 83884822283 | N15: 45028.443 | O15: показатели для согласования | P15: Пильтина Чечеш Михайловна | Q15: ='Справочник'!$F$38 -> 8 (38822) 2 22 02 | R15: Согласован 20.04.2023г. 15:48 | S15: Замечаний нет
A16: 20 | B16: Доля муниципальных учреждений культуры, здания которых находятся в аварийном состоянии или требуют капитального ремонта, в общем количестве муниципальных учреждений культуры | C16: процентов | D16: =IF(D17=0,0,D17/D18*100) -> 42.553191 | E16: =IF(E17=0,0,E17/E18*100) -> 42.553191 | F16: =IF(F17=0,0,F17/F18*100) -> 40.425532 | G16: =IF(G17=0,0,G17/G18*100) -> 40.425532 | H16: =IF(H17=0,0,H17/H18*100) -> 40.425532 | I16: =IF(I17=0,0,I17/I18*100) -> 40.425532 | J16: =IF(J17=0,0,J17/J18*100) -> 40.425532 | K16: https://yadi.sk/i/qNE2kKib3U9fmv | P16: Пильтина Чечеш Михайловна | Q16: =Справочник!$F$39 -> 8 (38822) 2 22 02 | R16: Согласован 21.04.2023 10:19 | S16: Замечаний нет
A17: справочно: | B17: Количество муниципальных учреждений культуры, здания которых находятся в аварийном состоянии или требуют капитального ремонта | C17: единиц | D17: 20 | E17: 20 | F17: 19 | G17: 19 | H17: 19 | I17: 19 | J17: 19 | L17: Казанцева Жанна Григорьевна | M17: 83884822283 | N17: 45028.443 | O17: показатели для согласования | P17: Пильтина Чечеш Михайловна | Q17: ='Справочник'!$F$39 -> 8 (38822) 2 22 02 | R17: Согласован 21.04.2023 10:19 | S17: Замечаний нет
B18: Общее количество муниципальных учреждений культуры | C18: единиц | D18: 47 | E18: 47 | F18: 47 | G18: 47 | H18: 47 | I18: 47 | J18: 47 | L18: Казанцева Жанна Григорьевна | M18: 83884822283 | N18: 45028.443 | O18: показатели для согласования | P18: Пильтина Чечеш Михайловна | Q18: ='Справочник'!$F$39 -> 8 (38822) 2 22 02 | R18: Согласован 21.04.2023 10:19 | S18: Замечаний нет
A19: 21 | B19: Доля объектов культурного наследия, находящихся в муниципальной собственности и требующих консервации или реставрации, в общем количестве объектов культурного наследия, находящихся в муниципальной собственности | C19: процентов | D19: =IF(D20=0,0,D20/D21*100) -> 0 | E19: =IF(E20=0,0,E20/E21*100) -> 0 | F19: =IF(F20=0,0,F20/F21*100) -> 0 | G19: =IF(G20=0,0,G20/G21*100) -> 0 | H19: =IF(H20=0,0,H20/H21*100) -> 0 | I19: =IF(I20=0,0,I20/I21*100) -> 0 | J19: =IF(J20=0,0,J20/J21*100) -> 0 | K19: https://yadi.sk/i/qNE2kKib3U9fmv | P19: =Справочник!$E$40 -> Киселёва Екатерина Игоревна | Q19: =Справочник!$F$40 -> 8 (38822) 2 41 73 8 913 695 6404 | R19: Согласовано 13.04.2023 10:38 | S19: Предложений и замечаний не имеется
A20: справочно: | B20: Количество объектов культурного наследия, находящихся в муниципальной собственности и требующих консервации или реставрации | C20: единиц | D20: 0 | E20: 0 | F20: 0 | G20: 0 | H20: 0 | I20: 0 | J20: 0 | L20: Казанцева Жанна Григорьевна | M20: 83884822283 | N20: 45028.443 | O20: показатели для согласования | P20: ='Справочник'!$E$40 -> Киселёва Екатерина Игоревна | Q20: ='Справочник'!$F$40 -> 8 (38822) 2 41 73 8 913 695 6404 | R20: Согласовано 13.04.2023 10:38 | S20: Предложений и замечаний не имеется
B21: Общее количество объектов культурного наследия, находящихся в муниципальной собственности | C21: единиц | D21: 0 | E21: 0 | F21: 0 | G21: 0 | H21: 0 | I21: 0 | J21: 0 | L21: Казанцева Жанна Григорьевна | M21: 83884822283 | N21: 45028.443 | O21: показатели для согласования | P21: ='Справочник'!$E$40 -> Киселёва Екатерина Игоревна | Q21: ='Справочник'!$F$40 -> 8 (38822) 2 41 73 8 913 695 6404 | R21: Согласовано 13.04.2023 10:38 | S21: Предложений и замечаний не имеется

Sheet Физическая культура и спорт
B1: ='Экономическое развитие'!$B$1 -> МО "Усть-Коксинский район"
A2: ='Экономическое развитие'!A2:K2 -> Заочное согласование показателей для оценки эфективности деятельности органов местного самоуправления муниципальных районов и городского округа в Республике Алтай за 2022 год и пояснительных записок к ним
A3: № показателя | B3: Наименование показателя | C3: Единицы измерения | D3: Отчетная информация | K3: пояснительная записка | L3: Муниципальное образовние | P3: Ведомство (согласование ПОЯСНИТЕЛЬНЫХ записок и ведомственных целевых показатателей)
D4: 2019 | E4: 2020 | F4: 2021 | G4: 2022 | H4: 2023 | I4: 2024 | J4: 2025 | L4: ФИО (полностью) | M4: контактный телефон (ОБЯЗАТЕЛЬНО) | N4: дата и время внесения на согласования (ОБЯЗАТЕЛЬНО) | O4: Комментарий ответственного сотрудника ОБЯЗАТЕЛЬНО | P4: ФИО (полностью) | Q4: контактный телефон (обязательно) | R4: дата и время согласования (ОБЯЗАТЕЛЬНО) | S4: комментарий ответственного сотрудника ОБЯЗАТЕЛЬНО
B5: V. Физическая культура и спорт
A6: 22 | B6: Доля населения, систематически занимающегося физической культурой и спортом | C6: процентов | D6: =IF(D7=0,0,D7/D8*100) -> #DIV/0! | E6: =IF(E7=0,0,E7/E8*100) -> 45.137747 | F6: =IF(F7=0,0,F7/F8*100) -> 52.423199 | G6: =IF(G7=0,0,G7/G8*100) -> 55.697892 | H6: =IF(H7=0,0,H7/H8*100) -> 55.733333 | I6: =IF(I7=0,0,I7/I8*100) -> 55.766667 | J6: =IF(J7=0,0,J7/J8*100) -> 55.8 | K6: https://yadi.sk/i/qNE2kKib3U9fmv | L6: Сахаров Николай Иосифович | M6: 8(38848)22265 | P6: =Справочник!$E$42 -> Титанакова Татьяна Борисовна | Q6: =Справочник!$F$42 -> 8 (388 22) 6-11-90 | R6: 17.04.2023 года 16.30 час | S6: согласовано
A7: справочно: | B7: Численность лиц, систематически занимающихся физической культурой и спортом | C7: человек | D7: 6153 | E7: 6865 | F7: 7918 | G7: 8348 | H7: 8360 | I7: 8365 | J7: 8370 | L7: Сахаров Николай Иосифович | M7: 8(38848)22265 | P7: ='Справочник'!$E$42 -> Титанакова Татьяна Борисовна | Q7: ='Справочник'!$F$42 -> 8 (388 22) 6-11-90 | R7: 17.04.2023 года 16.30 час | S7: согласовано
B8: Численность населения городского округа (муниципального района) в возрасте 3-79 лет на 1 января отчетного года | C8: человек | E8: 15209 | F8: 15104 | G8: 14988 | H8: 15000 | I8: 15000 | J8: 15000
